BEGIN:VCALENDAR
PRODID:-//HKUST Drupal Platform//EN
VERSION:2.0
BEGIN:VTIMEZONE
TZID:Asia/Hong_Kong
BEGIN:STANDARD
DTSTART:20071104T020000
TZOFFSETFROM:+0700
TZOFFSETTO:+0800
TZNAME:HKT
END:STANDARD
END:VTIMEZONE
BEGIN:VEVENT
DTSTAMP;TZID=Asia/Hong_Kong:20260425T000102
DTSTART;TZID=Asia/Hong_Kong:20260528T103000
DTEND;TZID=Asia/Hong_Kong:20260528T133000
LOCATION: , HKUST
SUMMARY:PHD in Nano Science & Technology - Chemical Vapor Deposition Growth and Characterization of Low-Dimensional Materials
UID:47071
END:VEVENT
END:VCALENDAR