BEGIN:VCALENDAR
PRODID:-//HKUST Drupal Platform//EN
VERSION:2.0
BEGIN:VTIMEZONE
TZID:Asia/Hong_Kong
BEGIN:STANDARD
DTSTART:20071104T020000
TZOFFSETFROM:+0700
TZOFFSETTO:+0800
TZNAME:HKT
END:STANDARD
END:VTIMEZONE
BEGIN:VEVENT
DTSTAMP;TZID=Asia/Hong_Kong:20260425T185252
DTSTART;TZID=Asia/Hong_Kong:20260617T150000
DTEND;TZID=Asia/Hong_Kong:20260617T180000
LOCATION: , HKUST
SUMMARY:MPhil in Computer Science & Engg - Automatic and Robust Fingerprinting of In-browser Cryptominers
UID:47068
END:VEVENT
END:VCALENDAR