BEGIN:VCALENDAR
PRODID:-//HKUST Drupal Platform//EN
VERSION:2.0
BEGIN:VTIMEZONE
TZID:Asia/Hong_Kong
BEGIN:STANDARD
DTSTART:20071104T020000
TZOFFSETFROM:+0700
TZOFFSETTO:+0800
TZNAME:HKT
END:STANDARD
END:VTIMEZONE
BEGIN:VEVENT
DTSTAMP;TZID=Asia/Hong_Kong:20260426T080013
DTSTART;TZID=Asia/Hong_Kong:20260428T140000
DTEND;TZID=Asia/Hong_Kong:20260428T153000
LOCATION:LTJ
SUMMARY:The Survival of the Fourth Estate: AI, Business Models, and the Future of Journalism（只提供英文版本）
UID:47057
END:VEVENT
END:VCALENDAR