BEGIN:VCALENDAR
PRODID:-//HKUST Drupal Platform//EN
VERSION:2.0
BEGIN:VTIMEZONE
TZID:Asia/Hong_Kong
BEGIN:STANDARD
DTSTART:20071104T020000
TZOFFSETFROM:+0700
TZOFFSETTO:+0800
TZNAME:HKT
END:STANDARD
END:VTIMEZONE
BEGIN:VEVENT
DTSTAMP;TZID=Asia/Hong_Kong:20260423T072250
DTSTART;TZID=Asia/Hong_Kong:20260506T100000
DTEND;TZID=Asia/Hong_Kong:20260506T130000
LOCATION:Room 2132C (Lift 22), 2/F Academic Building, HKUST
SUMMARY:PHD in Computer Science & Engg - Photorealistic Digital Humans: From Controllable Talking Heads to Free-Viewpoint 4D Avatars
UID:47055
END:VEVENT
END:VCALENDAR