BEGIN:VCALENDAR
PRODID:-//HKUST Drupal Platform//EN
VERSION:2.0
BEGIN:VTIMEZONE
TZID:Asia/Hong_Kong
BEGIN:STANDARD
DTSTART:20071104T020000
TZOFFSETFROM:+0700
TZOFFSETTO:+0800
TZNAME:HKT
END:STANDARD
END:VTIMEZONE
BEGIN:VEVENT
DTSTAMP;TZID=Asia/Hong_Kong:20260423T061057
DTSTART;TZID=Asia/Hong_Kong:20260528T140000
DTEND;TZID=Asia/Hong_Kong:20260528T170000
LOCATION: , HKUST
SUMMARY:MPhil in Electronic & Comp Engg - Tactile-sensing Skin using Capacitive Touch Sensing for Endoscopic Capsule Retention Detection
UID:47050
END:VEVENT
END:VCALENDAR