BEGIN:VCALENDAR
PRODID:-//HKUST Drupal Platform//EN
VERSION:2.0
BEGIN:VTIMEZONE
TZID:Asia/Hong_Kong
BEGIN:STANDARD
DTSTART:20071104T020000
TZOFFSETFROM:+0700
TZOFFSETTO:+0800
TZNAME:HKT
END:STANDARD
END:VTIMEZONE
BEGIN:VEVENT
DTSTAMP;TZID=Asia/Hong_Kong:20260422T053518
DTSTART;TZID=Asia/Hong_Kong:20260428T113000
DTEND;TZID=Asia/Hong_Kong:20260428T180000
LOCATION:Alumni Commons, G/F near Lift 4
SUMMARY:35 for Life - 35 for Life - Blood Donation (28 Apr)
UID:47021
END:VEVENT
END:VCALENDAR