BEGIN:VCALENDAR
PRODID:-//HKUST Drupal Platform//EN
VERSION:2.0
BEGIN:VTIMEZONE
TZID:Asia/Hong_Kong
BEGIN:STANDARD
DTSTART:20071104T020000
TZOFFSETFROM:+0700
TZOFFSETTO:+0800
TZNAME:HKT
END:STANDARD
END:VTIMEZONE
BEGIN:VEVENT
DTSTAMP;TZID=Asia/Hong_Kong:20260420T180112
DTSTART;TZID=Asia/Hong_Kong:20260520T093000
DTEND;TZID=Asia/Hong_Kong:20260520T123000
LOCATION: , HKUST
SUMMARY:MPhil in Integrative Sys & Design - Laser-Fabricated Nanostructured Electrochemical Sensors for Enzyme-free Biomarker Detection
UID:46989
END:VEVENT
END:VCALENDAR