BEGIN:VCALENDAR
PRODID:-//HKUST Drupal Platform//EN
VERSION:2.0
BEGIN:VTIMEZONE
TZID:Asia/Hong_Kong
BEGIN:STANDARD
DTSTART:20071104T020000
TZOFFSETFROM:+0700
TZOFFSETTO:+0800
TZNAME:HKT
END:STANDARD
END:VTIMEZONE
BEGIN:VEVENT
DTSTAMP;TZID=Asia/Hong_Kong:20260420T141715
DTSTART;TZID=Asia/Hong_Kong:20260526T100000
DTEND;TZID=Asia/Hong_Kong:20260526T130000
LOCATION: , HKUST
SUMMARY:PHD in Physics - Novel Electronic Transport Phenomena in Two-Dimensional Transition Metal Dichalcogenide Devices
UID:46988
END:VEVENT
END:VCALENDAR