BEGIN:VCALENDAR
PRODID:-//HKUST Drupal Platform//EN
VERSION:2.0
BEGIN:VTIMEZONE
TZID:Asia/Hong_Kong
BEGIN:STANDARD
DTSTART:20071104T020000
TZOFFSETFROM:+0700
TZOFFSETTO:+0800
TZNAME:HKT
END:STANDARD
END:VTIMEZONE
BEGIN:VEVENT
DTSTAMP;TZID=Asia/Hong_Kong:20260420T045805
DTSTART;TZID=Asia/Hong_Kong:20260521T090000
DTEND;TZID=Asia/Hong_Kong:20260521T120000
LOCATION: , HKUST
SUMMARY:PHD in Marine Environmental Sci - Using Data-driven Techniques to Study Organic Molecular Chemistry in Marine Environments
UID:46984
END:VEVENT
END:VCALENDAR