BEGIN:VCALENDAR
PRODID:-//HKUST Drupal Platform//EN
VERSION:2.0
BEGIN:VTIMEZONE
TZID:Asia/Hong_Kong
BEGIN:STANDARD
DTSTART:20071104T020000
TZOFFSETFROM:+0700
TZOFFSETTO:+0800
TZNAME:HKT
END:STANDARD
END:VTIMEZONE
BEGIN:VEVENT
DTSTAMP;TZID=Asia/Hong_Kong:20260423T141929
DTSTART;TZID=Asia/Hong_Kong:20260428T120000
DTEND;TZID=Asia/Hong_Kong:20260428T133000
LOCATION:Room 6591, Lift 31-32, Academic Building, HKUST
SUMMARY:Academy of Interdisciplinary Studies (AIS) Sustainability Seminar Series Spring 2026 - Infrastructuring Mobilities in the Greater Bay Area: The Rise of Infrastructural Regionalism at the Conjecture of Polycrisis
UID:46976
END:VEVENT
END:VCALENDAR