BEGIN:VCALENDAR
PRODID:-//HKUST Drupal Platform//EN
VERSION:2.0
BEGIN:VTIMEZONE
TZID:Asia/Hong_Kong
BEGIN:STANDARD
DTSTART:20071104T020000
TZOFFSETFROM:+0700
TZOFFSETTO:+0800
TZNAME:HKT
END:STANDARD
END:VTIMEZONE
BEGIN:VEVENT
DTSTAMP;TZID=Asia/Hong_Kong:20260420T115727
DTSTART;TZID=Asia/Hong_Kong:20260528T140000
DTEND;TZID=Asia/Hong_Kong:20260528T170000
LOCATION: , HKUST
SUMMARY:MPhil in Individu Interdisci Prog - Dual-View Structural and Predictive Learning for Robust Time-Series Anomaly Detection
UID:46967
END:VEVENT
END:VCALENDAR