BEGIN:VCALENDAR
PRODID:-//HKUST Drupal Platform//EN
VERSION:2.0
BEGIN:VTIMEZONE
TZID:Asia/Hong_Kong
BEGIN:STANDARD
DTSTART:20071104T020000
TZOFFSETFROM:+0700
TZOFFSETTO:+0800
TZNAME:HKT
END:STANDARD
END:VTIMEZONE
BEGIN:VEVENT
DTSTAMP;TZID=Asia/Hong_Kong:20260420T115727
DTSTART;TZID=Asia/Hong_Kong:20260520T140000
DTEND;TZID=Asia/Hong_Kong:20260520T170000
LOCATION:Room 1409 (Lifts 25-26), 1/F Academic Building, HKUST
SUMMARY:MPhil in Life Science - Characterization of Melanocyte Migration and Function in Post-inflammatory Hyperpigmentation Disease
UID:46937
END:VEVENT
END:VCALENDAR