BEGIN:VCALENDAR
PRODID:-//HKUST Drupal Platform//EN
VERSION:2.0
BEGIN:VTIMEZONE
TZID:Asia/Hong_Kong
BEGIN:STANDARD
DTSTART:20071104T020000
TZOFFSETFROM:+0700
TZOFFSETTO:+0800
TZNAME:HKT
END:STANDARD
END:VTIMEZONE
BEGIN:VEVENT
DTSTAMP;TZID=Asia/Hong_Kong:20260420T180908
DTSTART;TZID=Asia/Hong_Kong:20260326T170000
DTEND;TZID=Asia/Hong_Kong:20260326T180000
LOCATION:香港科技大學學術大樓蔣震演講廳（LT-J）
SUMMARY:珠海格力電器股份有限公司 董事長兼總裁 董明珠分享會
UID:46727
END:VEVENT
END:VCALENDAR