BEGIN:VCALENDAR
PRODID:-//HKUST Drupal Platform//EN
VERSION:2.0
BEGIN:VTIMEZONE
TZID:Asia/Hong_Kong
BEGIN:STANDARD
DTSTART:20071104T020000
TZOFFSETFROM:+0700
TZOFFSETTO:+0800
TZNAME:HKT
END:STANDARD
END:VTIMEZONE
BEGIN:VEVENT
DTSTAMP;TZID=Asia/Hong_Kong:20260420T204417
DTSTART;TZID=Asia/Hong_Kong:20260409T130000
DTEND;TZID=Asia/Hong_Kong:20260409T160000
LOCATION:E3-202, HKUST(GZ) / Zoom ID: 942 7805 5356; Passcode: dsa2026, HKUST
SUMMARY:PHD in Individual Interdisci Prog - Data-Efficient Learning via Distribution-Aware Data Compression
UID:46716
END:VEVENT
END:VCALENDAR