BEGIN:VCALENDAR
PRODID:-//HKUST Drupal Platform//EN
VERSION:2.0
BEGIN:VTIMEZONE
TZID:Asia/Hong_Kong
BEGIN:STANDARD
DTSTART:20071104T020000
TZOFFSETFROM:+0700
TZOFFSETTO:+0800
TZNAME:HKT
END:STANDARD
END:VTIMEZONE
BEGIN:VEVENT
DTSTAMP;TZID=Asia/Hong_Kong:20260420T151930
DTSTART;TZID=Asia/Hong_Kong:20260426T150000
DTEND;TZID=Asia/Hong_Kong:20260426T163000
LOCATION:LTL, Cheng Yu Tung Building, HKUST
SUMMARY:Guo Gan and His Friends International Concert  果敢與他的朋友們國際音樂會
UID:46607
END:VEVENT
END:VCALENDAR