BEGIN:VCALENDAR
PRODID:-//HKUST Drupal Platform//EN
VERSION:2.0
BEGIN:VTIMEZONE
TZID:Asia/Hong_Kong
BEGIN:STANDARD
DTSTART:20071104T020000
TZOFFSETFROM:+0700
TZOFFSETTO:+0800
TZNAME:HKT
END:STANDARD
END:VTIMEZONE
BEGIN:VEVENT
DTSTAMP;TZID=Asia/Hong_Kong:20260420T132853
DTSTART;TZID=Asia/Hong_Kong:20260224T193000
DTEND;TZID=Asia/Hong_Kong:20260224T220000
LOCATION:Main Hall, Shaw Auditorium
SUMMARY:Mini Concert 2026 by University Philharmonic Orchestra, HKUSTSU
UID:46466
END:VEVENT
END:VCALENDAR