BEGIN:VCALENDAR
PRODID:-//HKUST Drupal Platform//EN
VERSION:2.0
BEGIN:VTIMEZONE
TZID:Asia/Hong_Kong
BEGIN:STANDARD
DTSTART:20071104T020000
TZOFFSETFROM:+0700
TZOFFSETTO:+0800
TZNAME:HKT
END:STANDARD
END:VTIMEZONE
BEGIN:VEVENT
DTSTAMP;TZID=Asia/Hong_Kong:20260420T150606
DTSTART;TZID=Asia/Hong_Kong:20260130T103000
DTEND;TZID=Asia/Hong_Kong:20260130T133000
LOCATION:E2-601, HKUST(GZ) /  Zoom ID: 974 7326 1682, Passcode: dsa2026, HKUST
SUMMARY:PHD in Individual Interdisci Prog - From Iterative to Instantaneous: Diffusion Post-Training for Real-Time High-Quality Generation
UID:46327
END:VEVENT
END:VCALENDAR