BEGIN:VCALENDAR
PRODID:-//HKUST Drupal Platform//EN
VERSION:2.0
BEGIN:VTIMEZONE
TZID:Asia/Hong_Kong
BEGIN:STANDARD
DTSTART:20071104T020000
TZOFFSETFROM:+0700
TZOFFSETTO:+0800
TZNAME:HKT
END:STANDARD
END:VTIMEZONE
BEGIN:VEVENT
DTSTAMP;TZID=Asia/Hong_Kong:20260420T192907
DTSTART;TZID=Asia/Hong_Kong:20260129T090000
DTEND;TZID=Asia/Hong_Kong:20260129T120000
LOCATION:E2-301, HKUST(GZ) /  Zoom ID: 979 9483 9294, Passcode: dsa2026, HKUST
SUMMARY:PHD in Individual Interdisci Prog - Large Scale Future Route Management for Intelligent Transportation
UID:46320
END:VEVENT
END:VCALENDAR