BEGIN:VCALENDAR
PRODID:-//HKUST Drupal Platform//EN
VERSION:2.0
BEGIN:VTIMEZONE
TZID:Asia/Hong_Kong
BEGIN:STANDARD
DTSTART:20071104T020000
TZOFFSETFROM:+0700
TZOFFSETTO:+0800
TZNAME:HKT
END:STANDARD
END:VTIMEZONE
BEGIN:VEVENT
DTSTAMP;TZID=Asia/Hong_Kong:20260421T211935
DTSTART;TZID=Asia/Hong_Kong:20260122T100000
DTEND;TZID=Asia/Hong_Kong:20260122T130000
LOCATION:Room 2463 (Lifts 25-26), 2/F Academic Building, HKUST
SUMMARY:PHD in Electronic & Comp Engg - Mobility-Aware Robust Design for Secure and Energy-Efficient Integrated Sensing and Communication Systems
UID:46203
END:VEVENT
END:VCALENDAR