BEGIN:VCALENDAR
PRODID:-//HKUST Drupal Platform//EN
VERSION:2.0
BEGIN:VTIMEZONE
TZID:Asia/Hong_Kong
BEGIN:STANDARD
DTSTART:20071104T020000
TZOFFSETFROM:+0700
TZOFFSETTO:+0800
TZNAME:HKT
END:STANDARD
END:VTIMEZONE
BEGIN:VEVENT
DTSTAMP;TZID=Asia/Hong_Kong:20260421T231653
DTSTART;TZID=Asia/Hong_Kong:20260119T140000
DTEND;TZID=Asia/Hong_Kong:20260119T170000
LOCATION:Classroom 5501 / Zoom ID: 920 8758 5174, Passcode: dsa2026, HKUST
SUMMARY:PHD in Individual Interdisci Prog - Decoupling Tumor–Microenvironment Co-evolution via Computational Analysis
UID:46169
END:VEVENT
END:VCALENDAR