BEGIN:VCALENDAR
PRODID:-//HKUST Drupal Platform//EN
VERSION:2.0
BEGIN:VTIMEZONE
TZID:Asia/Hong_Kong
BEGIN:STANDARD
DTSTART:20071104T020000
TZOFFSETFROM:+0700
TZOFFSETTO:+0800
TZNAME:HKT
END:STANDARD
END:VTIMEZONE
BEGIN:VEVENT
DTSTAMP;TZID=Asia/Hong_Kong:20260420T152216
DTSTART;TZID=Asia/Hong_Kong:20260113T110000
DTEND;TZID=Asia/Hong_Kong:20260113T120000
LOCATION:Room 3598 (Lift 27/28), Academic Building, HKUST
SUMMARY:Civil Engineering Departmental Seminar  - Mechanics of many-body (frictional) contact in (and for) granular rheology and elasticity
UID:46151
END:VEVENT
END:VCALENDAR