BEGIN:VCALENDAR
PRODID:-//HKUST Drupal Platform//EN
VERSION:2.0
BEGIN:VTIMEZONE
TZID:Asia/Hong_Kong
BEGIN:STANDARD
DTSTART:20071104T020000
TZOFFSETFROM:+0700
TZOFFSETTO:+0800
TZNAME:HKT
END:STANDARD
END:VTIMEZONE
BEGIN:VEVENT
DTSTAMP;TZID=Asia/Hong_Kong:20260420T150541
DTSTART;TZID=Asia/Hong_Kong:20260105T173000
DTEND;TZID=Asia/Hong_Kong:20260105T203000
LOCATION:HKUSTGZ, E1-201; Zoom Meeting ID: 989 4253 4598 Passcode: iott, HKUST
SUMMARY:PHD in Individual Interdisci Prog - Privacy-Preserving Computing Systems with Homomorphic Encryption: From Efficiency Optimization to Intelligent Healthcare Applications
UID:46141
END:VEVENT
END:VCALENDAR