BEGIN:VCALENDAR
PRODID:-//HKUST Drupal Platform//EN
VERSION:2.0
BEGIN:VTIMEZONE
TZID:Asia/Hong_Kong
BEGIN:STANDARD
DTSTART:20071104T020000
TZOFFSETFROM:+0700
TZOFFSETTO:+0800
TZNAME:HKT
END:STANDARD
END:VTIMEZONE
BEGIN:VEVENT
DTSTAMP;TZID=Asia/Hong_Kong:20260420T150541
DTSTART;TZID=Asia/Hong_Kong:20260107T103000
DTEND;TZID=Asia/Hong_Kong:20260107T133000
LOCATION:E3-201, HKUST(GZ) / Zoom ID: 919 6428 0655, Passcode: dsa2026, HKUST
SUMMARY:PHD in Individual Interdisci Prog - Representation learning for tabular data
UID:46140
END:VEVENT
END:VCALENDAR