BEGIN:VCALENDAR
PRODID:-//HKUST Drupal Platform//EN
VERSION:2.0
BEGIN:VTIMEZONE
TZID:Asia/Hong_Kong
BEGIN:STANDARD
DTSTART:20071104T020000
TZOFFSETFROM:+0700
TZOFFSETTO:+0800
TZNAME:HKT
END:STANDARD
END:VTIMEZONE
BEGIN:VEVENT
DTSTAMP;TZID=Asia/Hong_Kong:20260420T174337
DTSTART;TZID=Asia/Hong_Kong:20260120T103000
DTEND;TZID=Asia/Hong_Kong:20260120T133000
LOCATION:Room 5506 (Lifts 25-26), 5/F Academic Building, HKUST
SUMMARY:MPhil in Life Science - Membrane Vesicles in Cellular Stress Responses: From ATG9A Trafficking During Autophagy to Extracellular Vesicle Mediated Phage Defense in Marine Cyanobacteria Prochlorococcus MED4
UID:46119
END:VEVENT
END:VCALENDAR