BEGIN:VCALENDAR
PRODID:-//HKUST Drupal Platform//EN
VERSION:2.0
BEGIN:VTIMEZONE
TZID:Asia/Hong_Kong
BEGIN:STANDARD
DTSTART:20071104T020000
TZOFFSETFROM:+0700
TZOFFSETTO:+0800
TZNAME:HKT
END:STANDARD
END:VTIMEZONE
BEGIN:VEVENT
DTSTAMP;TZID=Asia/Hong_Kong:20260420T150541
DTSTART;TZID=Asia/Hong_Kong:20251219T100000
DTEND;TZID=Asia/Hong_Kong:20251219T130000
LOCATION:Room 2548 + Room 2549 (Lifts 27-28), 2/F Academic Building, HKUST
SUMMARY:PHD in Mechanical Engineering - Towards Green Manufacturing of Thermoplastic Composites: Quantifying Material-Process-Structure-Property Relationships and Data-Driven Design
UID:46014
END:VEVENT
END:VCALENDAR