BEGIN:VCALENDAR
PRODID:-//HKUST Drupal Platform//EN
VERSION:2.0
BEGIN:VTIMEZONE
TZID:Asia/Hong_Kong
BEGIN:STANDARD
DTSTART:20071104T020000
TZOFFSETFROM:+0700
TZOFFSETTO:+0800
TZNAME:HKT
END:STANDARD
END:VTIMEZONE
BEGIN:VEVENT
DTSTAMP;TZID=Asia/Hong_Kong:20260420T180902
DTSTART;TZID=Asia/Hong_Kong:20251210T100000
DTEND;TZID=Asia/Hong_Kong:20251210T130000
LOCATION:Room 2128B (Lift 19), HKUST
SUMMARY:PHD in Chem & Biomolecular Engg - Biological Effects of Toluene Exposure on A549 Cells under Air–Liquid Interface Conditions
UID:46011
END:VEVENT
END:VCALENDAR