BEGIN:VCALENDAR
PRODID:-//HKUST Drupal Platform//EN
VERSION:2.0
BEGIN:VTIMEZONE
TZID:Asia/Hong_Kong
BEGIN:STANDARD
DTSTART:20071104T020000
TZOFFSETFROM:+0700
TZOFFSETTO:+0800
TZNAME:HKT
END:STANDARD
END:VTIMEZONE
BEGIN:VEVENT
DTSTAMP;TZID=Asia/Hong_Kong:20260424T130916
DTSTART;TZID=Asia/Hong_Kong:20251217T193000
DTEND;TZID=Asia/Hong_Kong:20251217T210000
LOCATION:Main Hall, Shaw Auditorium, HKUST, G/F, Shaw Auditorium, Hong Kong University of Science and Technology
SUMMARY:Fall 2025 Composition Class Final Concert @ HKUST
UID:45995
END:VEVENT
END:VCALENDAR