BEGIN:VCALENDAR
PRODID:-//HKUST Drupal Platform//EN
VERSION:2.0
BEGIN:VTIMEZONE
TZID:Asia/Hong_Kong
BEGIN:STANDARD
DTSTART:20071104T020000
TZOFFSETFROM:+0700
TZOFFSETTO:+0800
TZNAME:HKT
END:STANDARD
END:VTIMEZONE
BEGIN:VEVENT
DTSTAMP;TZID=Asia/Hong_Kong:20260420T165623
DTSTART;TZID=Asia/Hong_Kong:20251208T090000
DTEND;TZID=Asia/Hong_Kong:20251208T170000
LOCATION:Rm 4579, 4/F (Lift 27/28), Academic Building
SUMMARY:2025 HKUST-KAIST AI Chip Workshop  - We are pleased to announce the upcoming 2025 HKUST-KAIST AI Chip Workshop on December 8. This event will bring together leading experts and students in the field to discuss the latest advancements and research in AI computing.    The workshop will include three dedicated student sessions:  Energy-Efficient AI Processor Algorithm-Hardware Co-Design for AI Computing Processor Architecture for Vision Applications   Students from the two universities will share their research on AI chips. This workshop is supported by HKUST ECE Department, AI Chip Center for Emerging Smart Systems (ACCESS), Institute of Integrated Circuits and Systems (I2CS), IEEE SSCS Hong Kong Student Chapter, and KAIST Semiconductor System Lab (SSL).   
UID:45992
END:VEVENT
END:VCALENDAR