BEGIN:VCALENDAR
PRODID:-//HKUST Drupal Platform//EN
VERSION:2.0
BEGIN:VTIMEZONE
TZID:Asia/Hong_Kong
BEGIN:STANDARD
DTSTART:20071104T020000
TZOFFSETFROM:+0700
TZOFFSETTO:+0800
TZNAME:HKT
END:STANDARD
END:VTIMEZONE
BEGIN:VEVENT
DTSTAMP;TZID=Asia/Hong_Kong:20260420T142921
DTSTART;TZID=Asia/Hong_Kong:20251215T090000
DTEND;TZID=Asia/Hong_Kong:20251215T120000
LOCATION:4472 (Lifts 25-26), 4/F Academic Building, HKUST
SUMMARY:PHD in Electronic & Comp Engg - Inferring Fitness Parameters from Genetic Time-Series Data: Statistical Analysis and Algorithms
UID:45936
END:VEVENT
END:VCALENDAR