BEGIN:VCALENDAR
PRODID:-//HKUST Drupal Platform//EN
VERSION:2.0
BEGIN:VTIMEZONE
TZID:Asia/Hong_Kong
BEGIN:STANDARD
DTSTART:20071104T020000
TZOFFSETFROM:+0700
TZOFFSETTO:+0800
TZNAME:HKT
END:STANDARD
END:VTIMEZONE
BEGIN:VEVENT
DTSTAMP;TZID=Asia/Hong_Kong:20260420T180847
DTSTART;TZID=Asia/Hong_Kong:20251114T100000
DTEND;TZID=Asia/Hong_Kong:20251114T130000
LOCATION:Pak Shui Wun Beach, Next to HKUST Campus
SUMMARY:Beach Clean-up at Pak Shui Wun Beach
UID:45732
END:VEVENT
BEGIN:VEVENT
DTSTAMP;TZID=Asia/Hong_Kong:20260420T180847
DTSTART;TZID=Asia/Hong_Kong:20251115T100000
DTEND;TZID=Asia/Hong_Kong:20251115T130000
LOCATION:Pak Shui Wun Beach, Next to HKUST Campus
SUMMARY:Beach Clean-up at Pak Shui Wun Beach
UID:45732
END:VEVENT
BEGIN:VEVENT
DTSTAMP;TZID=Asia/Hong_Kong:20260420T180847
DTSTART;TZID=Asia/Hong_Kong:20251116T100000
DTEND;TZID=Asia/Hong_Kong:20251116T130000
LOCATION:Pak Shui Wun Beach, Next to HKUST Campus
SUMMARY:Beach Clean-up at Pak Shui Wun Beach
UID:45732
END:VEVENT
BEGIN:VEVENT
DTSTAMP;TZID=Asia/Hong_Kong:20260420T180847
DTSTART;TZID=Asia/Hong_Kong:20251117T100000
DTEND;TZID=Asia/Hong_Kong:20251117T130000
LOCATION:Pak Shui Wun Beach, Next to HKUST Campus
SUMMARY:Beach Clean-up at Pak Shui Wun Beach
UID:45732
END:VEVENT
BEGIN:VEVENT
DTSTAMP;TZID=Asia/Hong_Kong:20260420T180847
DTSTART;TZID=Asia/Hong_Kong:20251118T100000
DTEND;TZID=Asia/Hong_Kong:20251118T130000
LOCATION:Pak Shui Wun Beach, Next to HKUST Campus
SUMMARY:Beach Clean-up at Pak Shui Wun Beach
UID:45732
END:VEVENT
BEGIN:VEVENT
DTSTAMP;TZID=Asia/Hong_Kong:20260420T180847
DTSTART;TZID=Asia/Hong_Kong:20251119T100000
DTEND;TZID=Asia/Hong_Kong:20251119T130000
LOCATION:Pak Shui Wun Beach, Next to HKUST Campus
SUMMARY:Beach Clean-up at Pak Shui Wun Beach
UID:45732
END:VEVENT
BEGIN:VEVENT
DTSTAMP;TZID=Asia/Hong_Kong:20260420T180847
DTSTART;TZID=Asia/Hong_Kong:20251120T100000
DTEND;TZID=Asia/Hong_Kong:20251120T130000
LOCATION:Pak Shui Wun Beach, Next to HKUST Campus
SUMMARY:Beach Clean-up at Pak Shui Wun Beach
UID:45732
END:VEVENT
BEGIN:VEVENT
DTSTAMP;TZID=Asia/Hong_Kong:20260420T180847
DTSTART;TZID=Asia/Hong_Kong:20251121T100000
DTEND;TZID=Asia/Hong_Kong:20251121T130000
LOCATION:Pak Shui Wun Beach, Next to HKUST Campus
SUMMARY:Beach Clean-up at Pak Shui Wun Beach
UID:45732
END:VEVENT
BEGIN:VEVENT
DTSTAMP;TZID=Asia/Hong_Kong:20260420T180847
DTSTART;TZID=Asia/Hong_Kong:20251122T100000
DTEND;TZID=Asia/Hong_Kong:20251122T130000
LOCATION:Pak Shui Wun Beach, Next to HKUST Campus
SUMMARY:Beach Clean-up at Pak Shui Wun Beach
UID:45732
END:VEVENT
BEGIN:VEVENT
DTSTAMP;TZID=Asia/Hong_Kong:20260420T180847
DTSTART;TZID=Asia/Hong_Kong:20251123T100000
DTEND;TZID=Asia/Hong_Kong:20251123T130000
LOCATION:Pak Shui Wun Beach, Next to HKUST Campus
SUMMARY:Beach Clean-up at Pak Shui Wun Beach
UID:45732
END:VEVENT
BEGIN:VEVENT
DTSTAMP;TZID=Asia/Hong_Kong:20260420T180847
DTSTART;TZID=Asia/Hong_Kong:20251124T100000
DTEND;TZID=Asia/Hong_Kong:20251124T130000
LOCATION:Pak Shui Wun Beach, Next to HKUST Campus
SUMMARY:Beach Clean-up at Pak Shui Wun Beach
UID:45732
END:VEVENT
BEGIN:VEVENT
DTSTAMP;TZID=Asia/Hong_Kong:20260420T180847
DTSTART;TZID=Asia/Hong_Kong:20251125T100000
DTEND;TZID=Asia/Hong_Kong:20251125T130000
LOCATION:Pak Shui Wun Beach, Next to HKUST Campus
SUMMARY:Beach Clean-up at Pak Shui Wun Beach
UID:45732
END:VEVENT
BEGIN:VEVENT
DTSTAMP;TZID=Asia/Hong_Kong:20260420T180847
DTSTART;TZID=Asia/Hong_Kong:20251126T100000
DTEND;TZID=Asia/Hong_Kong:20251126T130000
LOCATION:Pak Shui Wun Beach, Next to HKUST Campus
SUMMARY:Beach Clean-up at Pak Shui Wun Beach
UID:45732
END:VEVENT
BEGIN:VEVENT
DTSTAMP;TZID=Asia/Hong_Kong:20260420T180847
DTSTART;TZID=Asia/Hong_Kong:20251127T100000
DTEND;TZID=Asia/Hong_Kong:20251127T130000
LOCATION:Pak Shui Wun Beach, Next to HKUST Campus
SUMMARY:Beach Clean-up at Pak Shui Wun Beach
UID:45732
END:VEVENT
END:VCALENDAR