BEGIN:VCALENDAR
PRODID:-//HKUST Drupal Platform//EN
VERSION:2.0
BEGIN:VTIMEZONE
TZID:Asia/Hong_Kong
BEGIN:STANDARD
DTSTART:20071104T020000
TZOFFSETFROM:+0700
TZOFFSETTO:+0800
TZNAME:HKT
END:STANDARD
END:VTIMEZONE
BEGIN:VEVENT
DTSTAMP;TZID=Asia/Hong_Kong:20260420T180828
DTSTART;TZID=Asia/Hong_Kong:20251211T150000
DTEND;TZID=Asia/Hong_Kong:20251211T180000
LOCATION: , HKUST
SUMMARY:PHD in Electronic & Comp Engg - Robot Navigation from Explicit Geometry to Implicit Models
UID:45679
END:VEVENT
END:VCALENDAR