BEGIN:VCALENDAR
PRODID:-//HKUST Drupal Platform//EN
VERSION:2.0
BEGIN:VTIMEZONE
TZID:Asia/Hong_Kong
BEGIN:STANDARD
DTSTART:20071104T020000
TZOFFSETFROM:+0700
TZOFFSETTO:+0800
TZNAME:HKT
END:STANDARD
END:VTIMEZONE
BEGIN:VEVENT
DTSTAMP;TZID=Asia/Hong_Kong:20260420T193958
DTSTART;TZID=Asia/Hong_Kong:20251210T100000
DTEND;TZID=Asia/Hong_Kong:20251210T130000
LOCATION: , HKUST
SUMMARY:PHD in Life Science - Molecular Changes of a Chemosensory Component in Males May Facilitate the Mating System Transition from Dioecioecy to Androdioecy in Caenorhabditis Species
UID:45638
END:VEVENT
END:VCALENDAR