BEGIN:VCALENDAR
PRODID:-//HKUST Drupal Platform//EN
VERSION:2.0
BEGIN:VTIMEZONE
TZID:Asia/Hong_Kong
BEGIN:STANDARD
DTSTART:20071104T020000
TZOFFSETFROM:+0700
TZOFFSETTO:+0800
TZNAME:HKT
END:STANDARD
END:VTIMEZONE
BEGIN:VEVENT
DTSTAMP;TZID=Asia/Hong_Kong:20260420T180915
DTSTART;TZID=Asia/Hong_Kong:20251204T100000
DTEND;TZID=Asia/Hong_Kong:20251204T130000
LOCATION: , HKUST
SUMMARY:PHD in Electronic & Comp Engg - Adaptive Online Learning and Portfolio Optimization: Regret Minimization, Robustness, and Efficient Algorithms
UID:45626
END:VEVENT
END:VCALENDAR