BEGIN:VCALENDAR
PRODID:-//HKUST Drupal Platform//EN
VERSION:2.0
BEGIN:VTIMEZONE
TZID:Asia/Hong_Kong
BEGIN:STANDARD
DTSTART:20071104T020000
TZOFFSETFROM:+0700
TZOFFSETTO:+0800
TZNAME:HKT
END:STANDARD
END:VTIMEZONE
BEGIN:VEVENT
DTSTAMP;TZID=Asia/Hong_Kong:20260420T180829
DTSTART;TZID=Asia/Hong_Kong:20251127T160000
DTEND;TZID=Asia/Hong_Kong:20251127T190000
LOCATION: , HKUST
SUMMARY:PHD in Computer Science & Engg - Towards High-performance and Scalable RDMA Networking for Datacenter Applications
UID:45502
END:VEVENT
END:VCALENDAR