BEGIN:VCALENDAR
PRODID:-//HKUST Drupal Platform//EN
VERSION:2.0
BEGIN:VTIMEZONE
TZID:Asia/Hong_Kong
BEGIN:STANDARD
DTSTART:20071104T020000
TZOFFSETFROM:+0700
TZOFFSETTO:+0800
TZNAME:HKT
END:STANDARD
END:VTIMEZONE
BEGIN:VEVENT
DTSTAMP;TZID=Asia/Hong_Kong:20260420T032833
DTSTART;TZID=Asia/Hong_Kong:20251010T103000
DTEND;TZID=Asia/Hong_Kong:20251010T115000
LOCATION:E1, 1F, Room 122
SUMMARY:FINTECH THRUST SEMINAR | Emotions and Fund Flows: Evidence from Managers’ Live Streams
UID:45466
END:VEVENT
END:VCALENDAR