BEGIN:VCALENDAR
PRODID:-//HKUST Drupal Platform//EN
VERSION:2.0
BEGIN:VTIMEZONE
TZID:Asia/Hong_Kong
BEGIN:STANDARD
DTSTART:20071104T020000
TZOFFSETFROM:+0700
TZOFFSETTO:+0800
TZNAME:HKT
END:STANDARD
END:VTIMEZONE
BEGIN:VEVENT
DTSTAMP;TZID=Asia/Hong_Kong:20260420T192939
DTSTART;TZID=Asia/Hong_Kong:20251028T153000
DTEND;TZID=Asia/Hong_Kong:20251028T163000
LOCATION:Room 4472,  4/F (Lifts 25-26), Academic Building
SUMMARY:Department of Chemistry Seminar - On the Roles of Microenvironment and Non-Covalent Interactions in the Catalysis
UID:45378
END:VEVENT
END:VCALENDAR