BEGIN:VCALENDAR
PRODID:-//HKUST Drupal Platform//EN
VERSION:2.0
BEGIN:VTIMEZONE
TZID:Asia/Hong_Kong
BEGIN:STANDARD
DTSTART:20071104T020000
TZOFFSETFROM:+0700
TZOFFSETTO:+0800
TZNAME:HKT
END:STANDARD
END:VTIMEZONE
BEGIN:VEVENT
DTSTAMP;TZID=Asia/Hong_Kong:20260420T192942
DTSTART;TZID=Asia/Hong_Kong:20251015T103000
DTEND;TZID=Asia/Hong_Kong:20251015T133000
LOCATION:E1-319, HKUST(GZ) / Zoom ID: 982 1425 0966 Passcode: dsa2025, HKUST
SUMMARY:PHD in Individual Interdisci Prog - Modeling Protein Interactions and Structures with Deep Learning: Techniques and Applications
UID:45358
END:VEVENT
END:VCALENDAR