BEGIN:VCALENDAR
PRODID:-//HKUST Drupal Platform//EN
VERSION:2.0
BEGIN:VTIMEZONE
TZID:Asia/Hong_Kong
BEGIN:STANDARD
DTSTART:20071104T020000
TZOFFSETFROM:+0700
TZOFFSETTO:+0800
TZNAME:HKT
END:STANDARD
END:VTIMEZONE
BEGIN:VEVENT
DTSTAMP;TZID=Asia/Hong_Kong:20260421T231653
DTSTART;TZID=Asia/Hong_Kong:20251216T103000
DTEND;TZID=Asia/Hong_Kong:20251216T133000
LOCATION: , HKUST
SUMMARY:MPhil in Marine Environmental Sci - Offshore microbial interactions and microbe-driven hydrocarbon metabolism
UID:45335
END:VEVENT
END:VCALENDAR