BEGIN:VCALENDAR
PRODID:-//HKUST Drupal Platform//EN
VERSION:2.0
BEGIN:VTIMEZONE
TZID:Asia/Hong_Kong
BEGIN:STANDARD
DTSTART:20071104T020000
TZOFFSETFROM:+0700
TZOFFSETTO:+0800
TZNAME:HKT
END:STANDARD
END:VTIMEZONE
BEGIN:VEVENT
DTSTAMP;TZID=Asia/Hong_Kong:20260420T155736
DTSTART;TZID=Asia/Hong_Kong:20251013T150000
DTEND;TZID=Asia/Hong_Kong:20251013T180000
LOCATION:E4, 2F, Room 201, HKUST
SUMMARY:PHD in Individual Interdisci Prog - Breaking Barriers, Building Connections: Digital Participation and Communication of Deaf or Hard-of-Hearing People
UID:45317
END:VEVENT
END:VCALENDAR