BEGIN:VCALENDAR
PRODID:-//HKUST Drupal Platform//EN
VERSION:2.0
BEGIN:VTIMEZONE
TZID:Asia/Hong_Kong
BEGIN:STANDARD
DTSTART:20071104T020000
TZOFFSETFROM:+0700
TZOFFSETTO:+0800
TZNAME:HKT
END:STANDARD
END:VTIMEZONE
BEGIN:VEVENT
DTSTAMP;TZID=Asia/Hong_Kong:20260420T190946
DTSTART;TZID=Asia/Hong_Kong:20251008T140000
DTEND;TZID=Asia/Hong_Kong:20251008T170000
LOCATION: , HKUST
SUMMARY:MPhil in Computer Science & Engg - Large Language Models as Enablers of Explainable AI: Opportunities and Limitations in Generating Visual and Textual Explanations
UID:45049
END:VEVENT
END:VCALENDAR