BEGIN:VCALENDAR
PRODID:-//HKUST Drupal Platform//EN
VERSION:2.0
BEGIN:VTIMEZONE
TZID:Asia/Hong_Kong
BEGIN:STANDARD
DTSTART:20071104T020000
TZOFFSETFROM:+0700
TZOFFSETTO:+0800
TZNAME:HKT
END:STANDARD
END:VTIMEZONE
BEGIN:VEVENT
DTSTAMP;TZID=Asia/Hong_Kong:20260420T192910
DTSTART;TZID=Asia/Hong_Kong:20250822T150000
DTEND;TZID=Asia/Hong_Kong:20250822T180000
LOCATION:Room 4475 (Lifts 25-26), 4/F Academic Building, HKUST
SUMMARY:PHD in Chemistry - Development of High-Performance Acceptor Materials for Organic Solar Cells: From Molecular Design, Synthesis to Device Fabrication
UID:44975
END:VEVENT
END:VCALENDAR