BEGIN:VCALENDAR
PRODID:-//HKUST Drupal Platform//EN
VERSION:2.0
BEGIN:VTIMEZONE
TZID:Asia/Hong_Kong
BEGIN:STANDARD
DTSTART:20071104T020000
TZOFFSETFROM:+0700
TZOFFSETTO:+0800
TZNAME:HKT
END:STANDARD
END:VTIMEZONE
BEGIN:VEVENT
DTSTAMP;TZID=Asia/Hong_Kong:20260425T115356
DTSTART;TZID=Asia/Hong_Kong:20250923T123000
DTEND;TZID=Asia/Hong_Kong:20250923T134500
LOCATION:Main Hall, Shaw Auditorium
SUMMARY:Fireside chat with Woman CEO in Hong Kong: Leadership and DEI 
UID:44959
END:VEVENT
END:VCALENDAR