BEGIN:VCALENDAR
PRODID:-//HKUST Drupal Platform//EN
VERSION:2.0
BEGIN:VTIMEZONE
TZID:Asia/Hong_Kong
BEGIN:STANDARD
DTSTART:20071104T020000
TZOFFSETFROM:+0700
TZOFFSETTO:+0800
TZNAME:HKT
END:STANDARD
END:VTIMEZONE
BEGIN:VEVENT
DTSTAMP;TZID=Asia/Hong_Kong:20260420T165537
DTSTART;TZID=Asia/Hong_Kong:20250825T140000
DTEND;TZID=Asia/Hong_Kong:20250825T150000
LOCATION:Room 4504, 4/F (Lifts 25-26), Academic Building
SUMMARY:Department of Chemistry Seminar - Accessing Novel Fluorinated Motifs via Transition Metal-Catalyzed Defluorinative Functionalization Strategy
UID:44910
END:VEVENT
END:VCALENDAR