BEGIN:VCALENDAR
PRODID:-//HKUST Drupal Platform//EN
VERSION:2.0
BEGIN:VTIMEZONE
TZID:Asia/Hong_Kong
BEGIN:STANDARD
DTSTART:20071104T020000
TZOFFSETFROM:+0700
TZOFFSETTO:+0800
TZNAME:HKT
END:STANDARD
END:VTIMEZONE
BEGIN:VEVENT
DTSTAMP;TZID=Asia/Hong_Kong:20260421T045613
DTSTART;TZID=Asia/Hong_Kong:20250812T160000
DTEND;TZID=Asia/Hong_Kong:20250812T190000
LOCATION:Room 2548 (Lifts 27-28), 2/F Academic Building; Zoom Meeting: https://hkust.zoom.us/j/91415072259?pwd=dzDSxKJTgObY6aTU3YullWK1vbvsBg.1  (Meeting ID: 914 1507 2259,  Passcode: 655659), HKUST
SUMMARY:PHD in Mechanical Engineering - Advanced Characterization and Optimization of Electrochemical Impedance Spectroscopy Data Using the Distributions of Relaxation and Capacitive Times
UID:44889
END:VEVENT
END:VCALENDAR