BEGIN:VCALENDAR
PRODID:-//HKUST Drupal Platform//EN
VERSION:2.0
BEGIN:VTIMEZONE
TZID:Asia/Hong_Kong
BEGIN:STANDARD
DTSTART:20071104T020000
TZOFFSETFROM:+0700
TZOFFSETTO:+0800
TZNAME:HKT
END:STANDARD
END:VTIMEZONE
BEGIN:VEVENT
DTSTAMP;TZID=Asia/Hong_Kong:20260420T221928
DTSTART;TZID=Asia/Hong_Kong:20250814T143000
DTEND;TZID=Asia/Hong_Kong:20250814T173000
LOCATION:E3-201, HKUST(GZ) / Zoom ID: 953 4380 9695, Passcode: dsa2025, HKUST
SUMMARY:PHD in Individual Interdisci Prog - Graph-Centric Intelligent Decision Support System with Application in Inventory Management
UID:44837
END:VEVENT
END:VCALENDAR