BEGIN:VCALENDAR
PRODID:-//HKUST Drupal Platform//EN
VERSION:2.0
BEGIN:VTIMEZONE
TZID:Asia/Hong_Kong
BEGIN:STANDARD
DTSTART:20071104T020000
TZOFFSETFROM:+0700
TZOFFSETTO:+0800
TZNAME:HKT
END:STANDARD
END:VTIMEZONE
BEGIN:VEVENT
DTSTAMP;TZID=Asia/Hong_Kong:20260420T234130
DTSTART;TZID=Asia/Hong_Kong:20250827T100000
DTEND;TZID=Asia/Hong_Kong:20250827T130000
LOCATION:C1, East, 421(GZ), HKUST
SUMMARY:PHD in Individual Interdisci Prog - Facilitating Safe and Efficient Autonomous Driving Through Multi-Stage Trajectory Planning
UID:44836
END:VEVENT
END:VCALENDAR