BEGIN:VCALENDAR
PRODID:-//HKUST Drupal Platform//EN
VERSION:2.0
BEGIN:VTIMEZONE
TZID:Asia/Hong_Kong
BEGIN:STANDARD
DTSTART:20071104T020000
TZOFFSETFROM:+0700
TZOFFSETTO:+0800
TZNAME:HKT
END:STANDARD
END:VTIMEZONE
BEGIN:VEVENT
DTSTAMP;TZID=Asia/Hong_Kong:20260421T045613
DTSTART;TZID=Asia/Hong_Kong:20250812T133000
DTEND;TZID=Asia/Hong_Kong:20250812T163000
LOCATION:Room 5560 (Lifts 27/28), 5/F. Academic Building, HKUST
SUMMARY:PHD in Mechanical Engineering - Model-Based Robotic Manipulation of Thin Objects: Strategies for High-Precision Placement
UID:44782
END:VEVENT
END:VCALENDAR