BEGIN:VCALENDAR
PRODID:-//HKUST Drupal Platform//EN
VERSION:2.0
BEGIN:VTIMEZONE
TZID:Asia/Hong_Kong
BEGIN:STANDARD
DTSTART:20071104T020000
TZOFFSETFROM:+0700
TZOFFSETTO:+0800
TZNAME:HKT
END:STANDARD
END:VTIMEZONE
BEGIN:VEVENT
DTSTAMP;TZID=Asia/Hong_Kong:20260420T235206
DTSTART;TZID=Asia/Hong_Kong:20250815T150000
DTEND;TZID=Asia/Hong_Kong:20250815T180000
LOCATION:E3-201, HKUST(GZ) / Zoom ID: 923 0737 4180, Passcode: dsa2025, HKUST
SUMMARY:PHD in Individual Interdisci Prog - Nonparametric Methods for Stochastic Systems: Model Calibration and Online Decision-Making
UID:44780
END:VEVENT
END:VCALENDAR