BEGIN:VCALENDAR
PRODID:-//HKUST Drupal Platform//EN
VERSION:2.0
BEGIN:VTIMEZONE
TZID:Asia/Hong_Kong
BEGIN:STANDARD
DTSTART:20071104T020000
TZOFFSETFROM:+0700
TZOFFSETTO:+0800
TZNAME:HKT
END:STANDARD
END:VTIMEZONE
BEGIN:VEVENT
DTSTAMP;TZID=Asia/Hong_Kong:20260420T234116
DTSTART;TZID=Asia/Hong_Kong:20250815T093000
DTEND;TZID=Asia/Hong_Kong:20250815T123000
LOCATION:W1, 1F, Room 102, HKUST(GZ) online: Zoom link: https://hkust-gz-edu-cn.zoom.us/j/93327978733?pwd=bND5pPpTWMtkM34cvC80w0xbAZ2HI0.1  Zoom ID: 933 2797 8733  passcode: Fintech, HKUST
SUMMARY:PHD in Individual Interdisci Prog - Essays on model calibration of stochastic volatility dynamics using financial data
UID:44779
END:VEVENT
END:VCALENDAR