BEGIN:VCALENDAR
PRODID:-//HKUST Drupal Platform//EN
VERSION:2.0
BEGIN:VTIMEZONE
TZID:Asia/Hong_Kong
BEGIN:STANDARD
DTSTART:20071104T020000
TZOFFSETFROM:+0700
TZOFFSETTO:+0800
TZNAME:HKT
END:STANDARD
END:VTIMEZONE
BEGIN:VEVENT
DTSTAMP;TZID=Asia/Hong_Kong:20260426T035632
DTSTART;TZID=Asia/Hong_Kong:20250919T193000
DTEND;TZID=Asia/Hong_Kong:20250919T204500
LOCATION:Main Hall, Shaw Auditorium
SUMMARY:伍人粵《「粵人無數」廣東音樂與16型人格 》
UID:44764
END:VEVENT
END:VCALENDAR